BEGIN:VCALENDAR
VERSION:2.0
PRODID:-//eventon.com NONSGML v1.0//EN
CALSCALE:GREGORIAN
METHOD:PUBLISH
BEGIN:VEVENT
UID:69e580bd262a9
DTSTAMP:20260420T012621Z
DTSTART:20260628T080000Z
DTEND:20260628T150000Z
LOCATION:
SUMMARY:4. Benefiz-Golfturnier am 28. Juni 2026
DESCRIPTION:a.speclink {color: #0198d1 !important; } a.speclink:hover { col
 or: #070361 !important; } Liebe Golfer/innen\,  die Anmeldungen sind freige
 schaltet. Alle Informationen zum 4. Benifiz-Golfturnier powered by Porsche 
 Zentrum Aachen zu Gunsten der AKV Sammlung Crous gGmbH findet ihr unter dem
  Menüpunkt Veranstaltungen &#8211; Golfturnier 2026. Wir hoffen\,  Ihr mel
 det euch zahlreich an.\nhttps://www.sammlung-crous.de/events/sammlung-crous
 -benefiz-golfturnier-2026/
URL:https://www.sammlung-crous.de/events/sammlung-crous-benefiz-golfturnier-2026/
END:VEVENT
END:VCALENDAR