BEGIN:VCALENDAR
VERSION:2.0
PRODID:-//eventon.com NONSGML v1.0//EN
CALSCALE:GREGORIAN
METHOD:PUBLISH
BEGIN:VEVENT
UID:69e63551656f4
DTSTAMP:20260420T141649Z
DTSTART:20260423T190000Z
DTEND:20260423T210000Z
LOCATION:
SUMMARY:LESUNG: DOMWÄCHTER mit Anne Stutenkemper & Silvio Neuendorf
DESCRIPTION:Die multimediale Lesung erzählt von bewegenden und wahren Erei
 gnissen – von Mut\,  Zusammenhalt und Verantwortung in einer Zeit\,  in d
 er Entscheidungen oft innerhalb von Sekunden getroffen werden mussten. Im M
 ittelpunkt steht die Geschichte der sogenannten Domwache: Jugendliche\,  di
 e während des Zweiten Weltkriegs auf den Dächern des Aachener Doms Wache 
 hielten[..]\nhttps://www.sammlung-crous.de/events/lesung-domwaechter-mit-an
 ne-stutenkemper-silvio-neuendorf-zu-gunsten-der-hospizstiftung/
URL:https://www.sammlung-crous.de/events/lesung-domwaechter-mit-anne-stutenkemper-silvio-neuendorf-zu-gunsten-der-hospizstiftung/
END:VEVENT
END:VCALENDAR